BEGIN:VCALENDAR
VERSION:2.0
PRODID:-//hacksw/handcal//NONSGML v1.0//EN
BEGIN:VEVENT
DTSTAMP:20260916T123000Z
DTSTART:20260916T123000Z
DTEND:20260916T143000Z

SUMMARY:28th Annual Awards & Recognition Breakfast
DESCRIPTION:Breakfast: 6:30 amProgram: 7:00 am
END:VEVENT
END:VCALENDAR