BEGIN:VCALENDAR
VERSION:2.0
PRODID:-//hacksw/handcal//NONSGML v1.0//EN
BEGIN:VEVENT
DTSTAMP:20260925T150000Z
DTSTART:20260925T150000Z
DTEND:20260926T010000Z

SUMMARY:NCSD Casper Invitational Volleyball Tournament
DESCRIPTION:Doors open 1-hour prior to start time                                        
END:VEVENT
END:VCALENDAR