BEGIN:VCALENDAR
VERSION:2.0
PRODID:-//hacksw/handcal//NONSGML v1.0//EN
BEGIN:VEVENT
DTSTAMP:20260926T140000Z
DTSTART:20260926T140000Z
DTEND:20260927T000000Z

SUMMARY:NCSD Casper Invitational Volleyball Tournament
DESCRIPTION:Doors open 1-hour prior to start time                                        
END:VEVENT
END:VCALENDAR