BEGIN:VCALENDAR
VERSION:2.0
PRODID:-//hacksw/handcal//NONSGML v1.0//EN
BEGIN:VEVENT
DTSTAMP:20260604T010000Z
DTSTART:20260604T010000Z
DTEND:19700101T000000Z

SUMMARY:School Resource Personnel Academy
DESCRIPTION:The Wyoming Department of Education (WDE) is proud to announce the launch of the Wyoming SRP Academy. This statewide initiative is designed to strengthen school safety by providing targeted connections, training, and resources for all School Resource Personnel.In alignment with federal grant guidelines, the Academy focuses on student-centered practices, including youth resiliency, trauma-informed school safety, and the promotion of integrity within the school-law enforcement partnership. Join SRPs and school partners from across the state for a comprehensive professional development experience dedicated to building safe and supportive learning environments and safer communities.
END:VEVENT
END:VCALENDAR