BEGIN:VCALENDAR
VERSION:2.0
PRODID:-//hacksw/handcal//NONSGML v1.0//EN
BEGIN:VEVENT
DTSTAMP:20261018T010000Z
DTSTART:20261018T010000Z
DTEND:19700101T000000Z

SUMMARY:State Marching Band Festival
DESCRIPTION:For those of you that are not able to make it to the State Marching Band Festival, the NFHS Network will be streaming the event live, for a minimal cost. Click on the button below to access the NFHS Network&#39;s site. nfhsnetwork.comFor Technical Support, please put in a ticket to help.nfhsnetwork.com. And for customer support, please email customerservice@nfhsnetwork.com.
END:VEVENT
END:VCALENDAR