BEGIN:VCALENDAR
VERSION:2.0
PRODID:-//hacksw/handcal//NONSGML v1.0//EN
BEGIN:VEVENT
DTSTAMP:20261204T020000Z
DTSTART:20261204T020000Z
DTEND:20261204T040000Z

SUMMARY:The Nutcracker with a Live Orchestra
DESCRIPTION:The Holiday Magic Begins Here — With a LIVE Orchestra.This holiday season, experience The Nutcracker like never before.Featuring a live orchestra, 40 world-class dancers, over 150 sparkling hand-sewn costumes, and lavish hand-crafted sets, World Ballet Company’s The Nutcracker is a breathtaking holiday spectacle for all ages.Follow Marie on a magical Christmas Eve journey as her beloved Nutcracker comes to life, sweeping her into a dreamworld of swirling snowflakes, battling mice, and the dazzling Kingdom of Sweets.Create unforgettable holiday memories and share the wonder of a timeless classic with the whole family.Duration: 1hr 40 min (including 20-minute intermission)Audience: 2+WBC Website: https://worldballetcompany.com/casper3World Ballet Company - Ballet Everywhere, Ballet For All.
END:VEVENT
END:VCALENDAR